BEGIN:VCALENDAR
VERSION:2.0
PRODID:-//Chase Cross Baptist Church - ECPv4.9.13//NONSGML v1.0//EN
CALSCALE:GREGORIAN
METHOD:PUBLISH
X-WR-CALNAME:Chase Cross Baptist Church
X-ORIGINAL-URL:http://cxbc.org.uk
X-WR-CALDESC:Events for Chase Cross Baptist Church
BEGIN:VTIMEZONE
TZID:Europe/London
BEGIN:DAYLIGHT
TZOFFSETFROM:+0000
TZOFFSETTO:+0100
TZNAME:BST
DTSTART:20200329T010000
END:DAYLIGHT
BEGIN:STANDARD
TZOFFSETFROM:+0100
TZOFFSETTO:+0000
TZNAME:GMT
DTSTART:20201025T010000
END:STANDARD
END:VTIMEZONE
BEGIN:VEVENT
DTSTART;TZID=Europe/London:20200131T183000
DTEND;TZID=Europe/London:20200131T200000
DTSTAMP:20260423T111810
CREATED:20190827T174435Z
LAST-MODIFIED:20190827T174435Z
UID:1911-1580495400-1580500800@cxbc.org.uk
SUMMARY:Childrens Club
DESCRIPTION:Monthly Childrens ClubAges 5 to 11\nGames\, Craft\, Bible Stories and Refreshments \n
URL:http://cxbc.org.uk/event/childrens-club-6/
LOCATION:CXBC\, 83 Chase Cross Road\, Romford\, Essex\, RM5 3PL\, United Kingdom
END:VEVENT
END:VCALENDAR