BEGIN:VCALENDAR
VERSION:2.0
PRODID:-//Chase Cross Baptist Church - ECPv4.9.13//NONSGML v1.0//EN
CALSCALE:GREGORIAN
METHOD:PUBLISH
X-WR-CALNAME:Chase Cross Baptist Church
X-ORIGINAL-URL:http://cxbc.org.uk
X-WR-CALDESC:Events for Chase Cross Baptist Church
BEGIN:VTIMEZONE
TZID:Europe/London
BEGIN:DAYLIGHT
TZOFFSETFROM:+0000
TZOFFSETTO:+0100
TZNAME:BST
DTSTART:20190331T010000
END:DAYLIGHT
BEGIN:STANDARD
TZOFFSETFROM:+0100
TZOFFSETTO:+0000
TZNAME:GMT
DTSTART:20191027T010000
END:STANDARD
END:VTIMEZONE
BEGIN:VEVENT
DTSTART;TZID=Europe/London:20191026T093000
DTEND;TZID=Europe/London:20191026T160000
DTSTAMP:20260423T182043
CREATED:20190929T153618Z
LAST-MODIFIED:20190929T153640Z
UID:1932-1572082200-1572105600@cxbc.org.uk
SUMMARY:Living on Purpose
DESCRIPTION:“Are you ready to move from a life of just existing to living more purposefully?” \nIf yes then we are hosting a Women’s conference and would love you to join us. \nWe are welcoming back the popular Cathy Madavan who was with us at our previous conference. \nCathy is a well known speaker\, writer\, coach and author of “Digging for Diamonds” She regularly writes for Liberti magazine\, speaks at New Wine and works with Care for the Family. \nShe is fun\, thought provoking and an engaging speaker who we know you’ll enjoy listening to and will get so much from. \n  \nTickets cost £12 (Lunch included) \n
URL:http://cxbc.org.uk/event/living-on-purpose/
LOCATION:CXBC\, 83 Chase Cross Road\, Romford\, Essex\, RM5 3PL\, United Kingdom
END:VEVENT
END:VCALENDAR