BEGIN:VCALENDAR
VERSION:2.0
PRODID:-//Chase Cross Baptist Church - ECPv4.9.13//NONSGML v1.0//EN
CALSCALE:GREGORIAN
METHOD:PUBLISH
X-WR-CALNAME:Chase Cross Baptist Church
X-ORIGINAL-URL:http://cxbc.org.uk
X-WR-CALDESC:Events for Chase Cross Baptist Church
BEGIN:VTIMEZONE
TZID:Europe/London
BEGIN:DAYLIGHT
TZOFFSETFROM:+0000
TZOFFSETTO:+0100
TZNAME:BST
DTSTART:20190331T010000
END:DAYLIGHT
BEGIN:STANDARD
TZOFFSETFROM:+0100
TZOFFSETTO:+0000
TZNAME:GMT
DTSTART:20191027T010000
END:STANDARD
END:VTIMEZONE
BEGIN:VEVENT
DTSTART;TZID=Europe/London:20191114T133000
DTEND;TZID=Europe/London:20191114T150000
DTSTAMP:20260423T020750
CREATED:20190908T131455Z
LAST-MODIFIED:20190908T131455Z
UID:1926-1573738200-1573743600@cxbc.org.uk
SUMMARY:Thursday Fellowship
DESCRIPTION:Thursday Fellowship Led by Mary Mackie from the Hospice \n
URL:http://cxbc.org.uk/event/thursday-fellowship-53/
LOCATION:CXBC\, 83 Chase Cross Road\, Romford\, Essex\, RM5 3PL\, United Kingdom
END:VEVENT
END:VCALENDAR